BEGIN:VCALENDAR
VERSION:2.0
PRODID:-//wp-events-plugin.com//7.2.3.1//EN
BEGIN:VEVENT
UID:10@narrenzunft-baesweiler.de
DTSTART;TZID=Europe/Berlin:20270106T180000
DTEND;TZID=Europe/Berlin:20270106T230000
DTSTAMP:20260331T134804Z
URL:https://narrenzunft-baesweiler.de/events/jecke-bosswiller-maedelsnacht
 -2027
SUMMARY:Jecke Bosswiller Mädelsnacht 2027
DESCRIPTION:Hallölle.\n\nHier kannst Du die Karten für unsere Jecke Bossw
 iller Mädelsnacht 2027 buchen!\n\n
END:VEVENT
BEGIN:VTIMEZONE
TZID:Europe/Berlin
X-LIC-LOCATION:Europe/Berlin
BEGIN:STANDARD
DTSTART:20261025T020000
TZOFFSETFROM:+0200
TZOFFSETTO:+0100
TZNAME:CET
END:STANDARD
END:VTIMEZONE
END:VCALENDAR