BEGIN:VCALENDAR
VERSION:2.0
PRODID:-//wp-events-plugin.com//7.2.3.1//EN
BEGIN:VEVENT
UID:9@narrenzunft-baesweiler.de
DTSTART:20261120T183000Z
DTEND:20261120T234500Z
DTSTAMP:20260414T093941Z
URL:https://narrenzunft-baesweiler.de/events/jecke-bosswiller-nacht-2026
SUMMARY:Jecke Bosswiller Nacht 2026
DESCRIPTION:[video width="576" height="816" mp4="https://narrenzunft-baeswe
 iler.de/wp-content/uploads/2026/02/WhatsApp-Video-2026-04-14-at-11.29.23.m
 p4"][/video]\n\nAuf geht es in die nächste Runde.\n\nHier kannst du die K
 arten für die Jecke Bosswiller Nacht 2026 bestellen.\n\nAchtung\, es gibt
  nur noch wenige Restkarten.\n\nWir freuen uns auf euch.\n\nJecke Grüße\
 n\nEure Narrenzunft Baesweiler
END:VEVENT
END:VCALENDAR